BEGIN:VCALENDAR
VERSION:2.0
PRODID:-//eventon.com NONSGML v1.0//EN
CALSCALE:GREGORIAN
METHOD:PUBLISH
BEGIN:VEVENT
UID:69ea2f1aaf40f
DTSTAMP:20260423T143922Z
DTSTART:20260530T151500Z
DTEND:20260530T180000Z
LOCATION:
SUMMARY:Swim Across America
DESCRIPTION:The Swim Across America Pool Program fundraiser is an easy way 
 for age group\,  high school\,  Masters and summer league programs to suppo
 rt our mission. Pool swim donations are granted towards cancer research. Fi
 nd out more here Swim Across America in Mesa. Proceeds will benefit cancer 
 research at Mayo Clinic.[..]\nhttps://azlmsc.org/events/swim-across-america
 /
URL:https://azlmsc.org/events/swim-across-america/
END:VEVENT
END:VCALENDAR